BEGIN:VCALENDAR
VERSION:2.0
PRODID:-//JCBRN Defence COE - ECPv6.15.18//NONSGML v1.0//EN
CALSCALE:GREGORIAN
METHOD:PUBLISH
X-WR-CALNAME:JCBRN Defence COE
X-ORIGINAL-URL:https://www.jcbrncoe.org
X-WR-CALDESC:Events for JCBRN Defence COE
REFRESH-INTERVAL;VALUE=DURATION:PT1H
X-Robots-Tag:noindex
X-PUBLISHED-TTL:PT1H
BEGIN:VTIMEZONE
TZID:Europe/Prague
BEGIN:DAYLIGHT
TZOFFSETFROM:+0100
TZOFFSETTO:+0200
TZNAME:CEST
DTSTART:20240331T010000
END:DAYLIGHT
BEGIN:STANDARD
TZOFFSETFROM:+0200
TZOFFSETTO:+0100
TZNAME:CET
DTSTART:20241027T010000
END:STANDARD
BEGIN:DAYLIGHT
TZOFFSETFROM:+0100
TZOFFSETTO:+0200
TZNAME:CEST
DTSTART:20250330T010000
END:DAYLIGHT
BEGIN:STANDARD
TZOFFSETFROM:+0200
TZOFFSETTO:+0100
TZNAME:CET
DTSTART:20251026T010000
END:STANDARD
BEGIN:DAYLIGHT
TZOFFSETFROM:+0100
TZOFFSETTO:+0200
TZNAME:CEST
DTSTART:20260329T010000
END:DAYLIGHT
BEGIN:STANDARD
TZOFFSETFROM:+0200
TZOFFSETTO:+0100
TZNAME:CET
DTSTART:20261025T010000
END:STANDARD
END:VTIMEZONE
BEGIN:VEVENT
DTSTART;VALUE=DATE:20250908
DTEND;VALUE=DATE:20250913
DTSTAMP:20260422T104423
CREATED:20250313T115947Z
LAST-MODIFIED:20250313T115947Z
UID:1227-1757289600-1757721599@www.jcbrncoe.org
SUMMARY:CBRN Awareness for First Responders
DESCRIPTION:This course provides training for interagency response representatives in the organization of an effective chemical\, biological\, and/or radiological incident response.  Special consideration is also given to CBRN incident consequence management considerations.
URL:https://www.jcbrncoe.org/calendar-event/cbrn-awareness-for-first-responders/
CATEGORIES:NATO education and training
END:VEVENT
BEGIN:VEVENT
DTSTART;VALUE=DATE:20250911
DTEND;VALUE=DATE:20250913
DTSTAMP:20260422T104423
CREATED:20250620T072950Z
LAST-MODIFIED:20250910T084024Z
UID:1375-1757548800-1757721599@www.jcbrncoe.org
SUMMARY:NATO CBRN Training Panel Meeting
DESCRIPTION:Autumn 2025 meeting of the CBRN Medical Training Panel
URL:https://www.jcbrncoe.org/calendar-event/nato-cbrn-training-panel-meeting/
LOCATION:Switzerland\, CBRN Centre\, Spiez
CATEGORIES:NATO working groups and meetings
END:VEVENT
END:VCALENDAR