BEGIN:VCALENDAR
VERSION:2.0
PRODID:-//JCBRN Defence COE - ECPv6.15.18//NONSGML v1.0//EN
CALSCALE:GREGORIAN
METHOD:PUBLISH
X-WR-CALNAME:JCBRN Defence COE
X-ORIGINAL-URL:https://www.jcbrncoe.org
X-WR-CALDESC:Events for JCBRN Defence COE
REFRESH-INTERVAL;VALUE=DURATION:PT1H
X-Robots-Tag:noindex
X-PUBLISHED-TTL:PT1H
BEGIN:VTIMEZONE
TZID:Europe/Prague
BEGIN:DAYLIGHT
TZOFFSETFROM:+0100
TZOFFSETTO:+0200
TZNAME:CEST
DTSTART:20240331T010000
END:DAYLIGHT
BEGIN:STANDARD
TZOFFSETFROM:+0200
TZOFFSETTO:+0100
TZNAME:CET
DTSTART:20241027T010000
END:STANDARD
BEGIN:DAYLIGHT
TZOFFSETFROM:+0100
TZOFFSETTO:+0200
TZNAME:CEST
DTSTART:20250330T010000
END:DAYLIGHT
BEGIN:STANDARD
TZOFFSETFROM:+0200
TZOFFSETTO:+0100
TZNAME:CET
DTSTART:20251026T010000
END:STANDARD
BEGIN:DAYLIGHT
TZOFFSETFROM:+0100
TZOFFSETTO:+0200
TZNAME:CEST
DTSTART:20260329T010000
END:DAYLIGHT
BEGIN:STANDARD
TZOFFSETFROM:+0200
TZOFFSETTO:+0100
TZNAME:CET
DTSTART:20261025T010000
END:STANDARD
END:VTIMEZONE
BEGIN:VEVENT
DTSTART;TZID=Europe/Prague:20251006T080000
DTEND;TZID=Europe/Prague:20251010T110000
DTSTAMP:20260422T104331
CREATED:20250620T072429Z
LAST-MODIFIED:20250910T083854Z
UID:1364-1759737600-1760094000@www.jcbrncoe.org
SUMMARY:N3-73-B-25 NATO Officer CBRN Defence Policy Course
DESCRIPTION:
URL:https://www.jcbrncoe.org/calendar-event/n3-73-b-25-nato-officer-cbrn-defence-policy-course/
LOCATION:Germany\, Oberammergau
CATEGORIES:NATO education and training
END:VEVENT
BEGIN:VEVENT
DTSTART;TZID=Europe/Prague:20251007T080000
DTEND;TZID=Europe/Prague:20251009T170000
DTSTAMP:20260422T104331
CREATED:20250620T073737Z
LAST-MODIFIED:20250910T084244Z
UID:1388-1759824000-1760029200@www.jcbrncoe.org
SUMMARY:Detection\, Identification and Monitoring Panel Meeting
DESCRIPTION:
URL:https://www.jcbrncoe.org/calendar-event/detection-identification-and-monitoring-panel-meeting-3/
LOCATION:France\, Bordeaux
CATEGORIES:NATO working groups and meetings
END:VEVENT
END:VCALENDAR